Package: covEB Version: 1.33.0 Command: E:\biocbuild\bbs-3.21-bioc\R\bin\R.exe CMD INSTALL covEB StartedAt: 2025-02-12 15:28:10 -0500 (Wed, 12 Feb 2025) EndedAt: 2025-02-12 15:28:23 -0500 (Wed, 12 Feb 2025) EllapsedTime: 12.4 seconds RetCode: 0 Status: OK