Package: covRNA Version: 1.33.0 Command: rm -rf covRNA.buildbin-libdir && mkdir covRNA.buildbin-libdir && /Users/biocbuild/BBS/utils/build-universal.sh covRNA_1.33.0.tar.gz /Library/Frameworks/R.framework/Resources/bin/R covRNA.buildbin-libdir StartedAt: 2025-02-04 22:12:33 -0500 (Tue, 04 Feb 2025) EndedAt: 2025-02-04 22:12:41 -0500 (Tue, 04 Feb 2025) EllapsedTime: 8.2 seconds RetCode: 0 Status: OK PackageFile: covRNA_1.33.0.tgz PackageFileSize: 592.7 KiB