Package: covRNA Version: 1.33.0 Command: /Library/Frameworks/R.framework/Resources/bin/R CMD INSTALL covRNA StartedAt: 2025-02-04 15:20:07 -0500 (Tue, 04 Feb 2025) EndedAt: 2025-02-04 15:20:14 -0500 (Tue, 04 Feb 2025) EllapsedTime: 6.9 seconds RetCode: 0 Status: OK