Package: covRNA Version: 1.33.0 Command: /home/biocbuild/R/R/bin/R CMD build --keep-empty-dirs --no-resave-data covRNA StartedAt: 2025-01-28 22:08:57 -0000 (Tue, 28 Jan 2025) EndedAt: 2025-01-28 22:10:05 -0000 (Tue, 28 Jan 2025) EllapsedTime: 68.0 seconds RetCode: 0 Status: OK PackageFile: covRNA_1.33.0.tar.gz PackageFileSize: 544.1 KiB