Package: covRNA Version: 1.33.0 Command: /Library/Frameworks/R.framework/Resources/bin/R CMD build --keep-empty-dirs --no-resave-data covRNA StartedAt: 2025-02-04 16:21:09 -0500 (Tue, 04 Feb 2025) EndedAt: 2025-02-04 16:22:06 -0500 (Tue, 04 Feb 2025) EllapsedTime: 57.0 seconds RetCode: 0 Status: OK PackageFile: covRNA_1.33.0.tar.gz PackageFileSize: 556 KiB