Package: covRNA Version: 1.33.0 Command: /home/biocbuild/bbs-3.21-bioc/R/bin/R CMD INSTALL covRNA StartedAt: 2025-02-04 15:26:47 -0500 (Tue, 04 Feb 2025) EndedAt: 2025-02-04 15:27:04 -0500 (Tue, 04 Feb 2025) EllapsedTime: 17.2 seconds RetCode: 0 Status: OK