Package: covRNA Version: 1.33.0 Command: chmod a+r covRNA -R && E:\biocbuild\bbs-3.21-bioc\R\bin\R.exe CMD build --keep-empty-dirs --no-resave-data covRNA StartedAt: 2025-02-12 18:08:00 -0500 (Wed, 12 Feb 2025) EndedAt: 2025-02-12 18:09:15 -0500 (Wed, 12 Feb 2025) EllapsedTime: 74.6 seconds RetCode: 0 Status: OK PackageFile: covRNA_1.33.0.tar.gz PackageFileSize: 519.6 KiB