Package: cpvSNP Version: 1.39.0 Command: rm -rf cpvSNP.buildbin-libdir && mkdir cpvSNP.buildbin-libdir && /Users/biocbuild/BBS/utils/build-universal.sh cpvSNP_1.39.0.tar.gz /Library/Frameworks/R.framework/Resources/bin/R cpvSNP.buildbin-libdir StartedAt: 2025-02-09 22:10:42 -0500 (Sun, 09 Feb 2025) EndedAt: 2025-02-09 22:10:59 -0500 (Sun, 09 Feb 2025) EllapsedTime: 17.3 seconds RetCode: 0 Status: OK PackageFile: cpvSNP_1.39.0.tgz PackageFileSize: 2.379 MiB