Package: cpvSNP Version: 1.39.0 Command: /Library/Frameworks/R.framework/Resources/bin/R CMD INSTALL cpvSNP StartedAt: 2025-02-09 15:09:32 -0500 (Sun, 09 Feb 2025) EndedAt: 2025-02-09 15:09:48 -0500 (Sun, 09 Feb 2025) EllapsedTime: 15.5 seconds RetCode: 0 Status: OK