Package: cpvSNP Version: 1.39.0 Command: /home/biocbuild/R/R/bin/R CMD build --keep-empty-dirs --no-resave-data cpvSNP StartedAt: 2025-01-28 22:09:02 -0000 (Tue, 28 Jan 2025) EndedAt: 2025-01-28 22:10:24 -0000 (Tue, 28 Jan 2025) EllapsedTime: 82.0 seconds RetCode: 0 Status: OK PackageFile: cpvSNP_1.39.0.tar.gz PackageFileSize: 1.987 MiB