Package: cpvSNP Version: 1.39.0 Command: /home/biocbuild/R/R/bin/R CMD INSTALL cpvSNP StartedAt: 2025-01-29 19:52:04 -0000 (Wed, 29 Jan 2025) EndedAt: 2025-01-29 19:52:58 -0000 (Wed, 29 Jan 2025) EllapsedTime: 53.5 seconds RetCode: 0 Status: OK