Package: cpvSNP Version: 1.39.0 Command: rm -rf cpvSNP.buildbin-libdir && mkdir cpvSNP.buildbin-libdir && /Users/biocbuild/BBS/utils/build-universal.sh cpvSNP_1.39.0.tar.gz /Library/Frameworks/R.framework/Resources/bin/R cpvSNP.buildbin-libdir StartedAt: 2025-02-10 00:48:29 -0500 (Mon, 10 Feb 2025) EndedAt: 2025-02-10 00:49:26 -0500 (Mon, 10 Feb 2025) EllapsedTime: 56.6 seconds RetCode: 0 Status: OK PackageFile: cpvSNP_1.39.0.tgz PackageFileSize: 2.377 MiB