Package: cpvSNP Version: 1.39.0 Command: /Library/Frameworks/R.framework/Resources/bin/R CMD build --keep-empty-dirs --no-resave-data cpvSNP StartedAt: 2025-02-09 16:24:02 -0500 (Sun, 09 Feb 2025) EndedAt: 2025-02-09 16:25:08 -0500 (Sun, 09 Feb 2025) EllapsedTime: 66.2 seconds RetCode: 0 Status: OK PackageFile: cpvSNP_1.39.0.tar.gz PackageFileSize: 2.005 MiB