Package: cpvSNP Version: 1.39.0 Command: /Library/Frameworks/R.framework/Resources/bin/R CMD check --install=check:cpvSNP.install-out.txt --library=/Library/Frameworks/R.framework/Resources/library --no-vignettes --timings cpvSNP_1.39.0.tar.gz StartedAt: 2025-02-09 19:59:05 -0500 (Sun, 09 Feb 2025) EndedAt: 2025-02-09 20:04:24 -0500 (Sun, 09 Feb 2025) EllapsedTime: 319.3 seconds RetCode: 0 Status: OK CheckDir: cpvSNP.Rcheck Warnings: 0