Package: cpvSNP Version: 1.39.0 Command: rm -rf cpvSNP.buildbin-libdir && mkdir cpvSNP.buildbin-libdir && E:\biocbuild\bbs-3.21-bioc\R\bin\R.exe CMD INSTALL --build --library=cpvSNP.buildbin-libdir cpvSNP_1.39.0.tar.gz StartedAt: 2025-02-10 07:32:07 -0500 (Mon, 10 Feb 2025) EndedAt: 2025-02-10 07:33:00 -0500 (Mon, 10 Feb 2025) EllapsedTime: 53.1 seconds RetCode: 0 Status: OK PackageFile: cpvSNP_1.39.0.zip PackageFileSize: 2.354 MiB