Package: cpvSNP Version: 1.39.0 Command: chmod a+r cpvSNP -R && E:\biocbuild\bbs-3.21-bioc\R\bin\R.exe CMD build --keep-empty-dirs --no-resave-data cpvSNP StartedAt: 2025-02-09 18:05:19 -0500 (Sun, 09 Feb 2025) EndedAt: 2025-02-09 18:07:33 -0500 (Sun, 09 Feb 2025) EllapsedTime: 133.6 seconds RetCode: 0 Status: OK PackageFile: cpvSNP_1.39.0.tar.gz PackageFileSize: 1.98 MiB