Package: crisprDesign Version: 1.9.0 Maintainer: Jean-Philippe Fortin MaintainerEmail: fortin946 at gmail.com git_url: https://git.bioconductor.org/packages/crisprDesign git_branch: devel git_last_commit: 055b690 git_last_commit_date: 2025-02-07 13:43:34 -0500 (Fri, 07 Feb 2025)