Package: crisprDesign Version: 1.9.0 Command: /Library/Frameworks/R.framework/Resources/bin/R CMD check --install=check:crisprDesign.install-out.txt --library=/Library/Frameworks/R.framework/Resources/library --no-vignettes --timings crisprDesign_1.9.0.tar.gz StartedAt: 2025-02-09 18:43:04 -0500 (Sun, 09 Feb 2025) EndedAt: 2025-02-09 18:46:25 -0500 (Sun, 09 Feb 2025) EllapsedTime: 201.3 seconds RetCode: 0 Status: OK CheckDir: crisprDesign.Rcheck Warnings: 0