Package: crisprDesign Version: 1.9.0 Command: /home/biocbuild/R/R/bin/R CMD build --keep-empty-dirs --no-resave-data crisprDesign StartedAt: 2025-01-28 22:10:14 -0000 (Tue, 28 Jan 2025) EndedAt: 2025-01-28 22:12:31 -0000 (Tue, 28 Jan 2025) EllapsedTime: 137.1 seconds RetCode: 0 Status: OK PackageFile: crisprDesign_1.9.0.tar.gz PackageFileSize: 2.627 MiB