Package: crisprDesign Version: 1.9.0 Command: /home/biocbuild/R/R/bin/R CMD check --install=check:crisprDesign.install-out.txt --library=/home/biocbuild/R/R/site-library --no-vignettes --timings crisprDesign_1.9.0.tar.gz StartedAt: 2025-01-28 09:33:39 -0000 (Tue, 28 Jan 2025) EndedAt: 2025-01-28 09:46:06 -0000 (Tue, 28 Jan 2025) EllapsedTime: 747.6 seconds RetCode: 0 Status: WARNINGS CheckDir: crisprDesign.Rcheck Warnings: 6