Package: crisprDesign Version: 1.9.0 Command: /Library/Frameworks/R.framework/Resources/bin/R CMD build --keep-empty-dirs --no-resave-data crisprDesign StartedAt: 2025-02-09 16:24:39 -0500 (Sun, 09 Feb 2025) EndedAt: 2025-02-09 16:26:30 -0500 (Sun, 09 Feb 2025) EllapsedTime: 111.0 seconds RetCode: 0 Status: OK PackageFile: crisprDesign_1.9.0.tar.gz PackageFileSize: 2.598 MiB