Package: crisprDesign Version: 1.9.0 Command: rm -rf crisprDesign.buildbin-libdir && mkdir crisprDesign.buildbin-libdir && E:\biocbuild\bbs-3.21-bioc\R\bin\R.exe CMD INSTALL --build --library=crisprDesign.buildbin-libdir crisprDesign_1.9.0.tar.gz StartedAt: 2025-02-10 07:32:17 -0500 (Mon, 10 Feb 2025) EndedAt: 2025-02-10 07:36:18 -0500 (Mon, 10 Feb 2025) EllapsedTime: 241.0 seconds RetCode: 0 Status: OK PackageFile: crisprDesign_1.9.0.zip PackageFileSize: 3.599 MiB