Package: crisprDesign Version: 1.9.0 Command: chmod a+r crisprDesign -R && E:\biocbuild\bbs-3.21-bioc\R\bin\R.exe CMD build --keep-empty-dirs --no-resave-data crisprDesign StartedAt: 2025-02-12 18:08:27 -0500 (Wed, 12 Feb 2025) EndedAt: 2025-02-12 18:11:18 -0500 (Wed, 12 Feb 2025) EllapsedTime: 170.7 seconds RetCode: 0 Status: OK PackageFile: crisprDesign_1.9.0.tar.gz PackageFileSize: 2.603 MiB