Package: crisprDesign Version: 1.9.0 Command: set _R_CHECK_FORCE_SUGGESTS_=0&& E:\biocbuild\bbs-3.21-bioc\R\bin\R.exe CMD check --no-multiarch --install=check:crisprDesign.install-out.txt --library=E:\biocbuild\bbs-3.21-bioc\R\library --no-vignettes --timings crisprDesign_1.9.0.tar.gz StartedAt: 2025-02-10 00:01:13 -0500 (Mon, 10 Feb 2025) EndedAt: 2025-02-10 00:12:24 -0500 (Mon, 10 Feb 2025) EllapsedTime: 670.8 seconds RetCode: 0 Status: OK CheckDir: crisprDesign.Rcheck Warnings: 0