Package: crisprDesign Version: 1.9.0 Command: E:\biocbuild\bbs-3.21-bioc\R\bin\R.exe CMD INSTALL crisprDesign StartedAt: 2025-02-09 16:41:02 -0500 (Sun, 09 Feb 2025) EndedAt: 2025-02-09 16:44:24 -0500 (Sun, 09 Feb 2025) EllapsedTime: 202.1 seconds RetCode: 0 Status: OK