Package: crisprShiny Version: 1.3.0 Command: rm -rf crisprShiny.buildbin-libdir && mkdir crisprShiny.buildbin-libdir && /Users/biocbuild/BBS/utils/build-universal.sh crisprShiny_1.3.0.tar.gz /Library/Frameworks/R.framework/Resources/bin/R crisprShiny.buildbin-libdir StartedAt: 2025-02-09 22:10:49 -0500 (Sun, 09 Feb 2025) EndedAt: 2025-02-09 22:11:10 -0500 (Sun, 09 Feb 2025) EllapsedTime: 21.4 seconds RetCode: 0 Status: OK PackageFile: crisprShiny_1.3.0.tgz PackageFileSize: 1.29 MiB