Package: crisprShiny Version: 1.3.0 Command: /Library/Frameworks/R.framework/Resources/bin/R CMD build --keep-empty-dirs --no-resave-data crisprShiny StartedAt: 2025-02-09 16:00:17 -0500 (Sun, 09 Feb 2025) EndedAt: 2025-02-09 16:00:40 -0500 (Sun, 09 Feb 2025) EllapsedTime: 23.2 seconds RetCode: 0 Status: OK PackageFile: crisprShiny_1.3.0.tar.gz PackageFileSize: 1.581 MiB