Package: crisprShiny Version: 1.3.0 Command: /Library/Frameworks/R.framework/Resources/bin/R CMD check --install=check:crisprShiny.install-out.txt --library=/Library/Frameworks/R.framework/Resources/library --no-vignettes --timings crisprShiny_1.3.0.tar.gz StartedAt: 2025-02-09 18:43:11 -0500 (Sun, 09 Feb 2025) EndedAt: 2025-02-09 18:45:55 -0500 (Sun, 09 Feb 2025) EllapsedTime: 163.8 seconds RetCode: 0 Status: OK CheckDir: crisprShiny.Rcheck Warnings: 0