Package: crisprShiny Version: 1.3.0 Command: /Library/Frameworks/R.framework/Resources/bin/R CMD INSTALL crisprShiny StartedAt: 2025-02-09 15:18:04 -0500 (Sun, 09 Feb 2025) EndedAt: 2025-02-09 15:18:25 -0500 (Sun, 09 Feb 2025) EllapsedTime: 21.1 seconds RetCode: 0 Status: OK