Package: crisprShiny Version: 1.3.0 Command: /home/biocbuild/R/R/bin/R CMD build --keep-empty-dirs --no-resave-data crisprShiny StartedAt: 2025-01-28 22:10:34 -0000 (Tue, 28 Jan 2025) EndedAt: 2025-01-28 22:11:50 -0000 (Tue, 28 Jan 2025) EllapsedTime: 76.0 seconds RetCode: 0 Status: OK PackageFile: crisprShiny_1.3.0.tar.gz PackageFileSize: 1.581 MiB