Package: crisprShiny Version: 1.3.0 Command: /home/biocbuild/R/R/bin/R CMD check --install=check:crisprShiny.install-out.txt --library=/home/biocbuild/R/R/site-library --no-vignettes --timings crisprShiny_1.3.0.tar.gz StartedAt: 2025-01-28 09:34:14 -0000 (Tue, 28 Jan 2025) EndedAt: 2025-01-28 09:43:35 -0000 (Tue, 28 Jan 2025) EllapsedTime: 561.4 seconds RetCode: 0 Status: WARNINGS CheckDir: crisprShiny.Rcheck Warnings: 6