Package: crisprShiny Version: 1.3.0 Command: /home/biocbuild/R/R/bin/R CMD INSTALL crisprShiny StartedAt: 2025-01-29 20:12:57 -0000 (Wed, 29 Jan 2025) EndedAt: 2025-01-29 20:14:10 -0000 (Wed, 29 Jan 2025) EllapsedTime: 73.4 seconds RetCode: 0 Status: OK