Package: crisprShiny Version: 1.3.0 Command: /Library/Frameworks/R.framework/Resources/bin/R CMD build --keep-empty-dirs --no-resave-data crisprShiny StartedAt: 2025-02-04 16:22:02 -0500 (Tue, 04 Feb 2025) EndedAt: 2025-02-04 16:23:01 -0500 (Tue, 04 Feb 2025) EllapsedTime: 58.1 seconds RetCode: 0 Status: OK PackageFile: crisprShiny_1.3.0.tar.gz PackageFileSize: 1.581 MiB