Package: crisprShiny Version: 1.3.0 Command: chmod a+r crisprShiny -R && E:\biocbuild\bbs-3.21-bioc\R\bin\R.exe CMD build --keep-empty-dirs --no-resave-data crisprShiny StartedAt: 2025-02-04 18:04:48 -0500 (Tue, 04 Feb 2025) EndedAt: 2025-02-04 18:06:11 -0500 (Tue, 04 Feb 2025) EllapsedTime: 83.6 seconds RetCode: 0 Status: OK PackageFile: crisprShiny_1.3.0.tar.gz PackageFileSize: 1.581 MiB