Package: crisprShiny Version: 1.3.0 Command: E:\biocbuild\bbs-3.21-bioc\R\bin\R.exe CMD INSTALL crisprShiny StartedAt: 2025-02-04 16:18:09 -0500 (Tue, 04 Feb 2025) EndedAt: 2025-02-04 16:19:12 -0500 (Tue, 04 Feb 2025) EllapsedTime: 63.2 seconds RetCode: 0 Status: OK