Package: crisprVerse Version: 1.9.0 Command: /Library/Frameworks/R.framework/Resources/bin/R CMD check --install=check:crisprVerse.install-out.txt --library=/Library/Frameworks/R.framework/Resources/library --no-vignettes --timings crisprVerse_1.9.0.tar.gz StartedAt: 2025-02-09 20:01:37 -0500 (Sun, 09 Feb 2025) EndedAt: 2025-02-09 20:08:31 -0500 (Sun, 09 Feb 2025) EllapsedTime: 414.0 seconds RetCode: 0 Status: OK CheckDir: crisprVerse.Rcheck Warnings: 0