Package: crisprVerse Version: 1.9.0 Command: /Library/Frameworks/R.framework/Resources/bin/R CMD INSTALL crisprVerse StartedAt: 2025-02-09 15:29:24 -0500 (Sun, 09 Feb 2025) EndedAt: 2025-02-09 15:30:32 -0500 (Sun, 09 Feb 2025) EllapsedTime: 67.8 seconds RetCode: 0 Status: OK