Package: crisprVerse Version: 1.9.0 Command: /home/biocbuild/bbs-3.21-bioc/R/bin/R CMD check --install=check:crisprVerse.install-out.txt --library=/home/biocbuild/bbs-3.21-bioc/R/site-library --timings crisprVerse_1.9.0.tar.gz StartedAt: 2025-02-09 21:18:22 -0500 (Sun, 09 Feb 2025) EndedAt: 2025-02-09 21:24:53 -0500 (Sun, 09 Feb 2025) EllapsedTime: 390.4 seconds RetCode: 0 Status: OK CheckDir: crisprVerse.Rcheck Warnings: 0