Package: crisprVerse Version: 1.9.0 Command: /home/biocbuild/bbs-3.21-bioc/R/bin/R CMD INSTALL crisprVerse StartedAt: 2025-02-09 15:47:21 -0500 (Sun, 09 Feb 2025) EndedAt: 2025-02-09 15:48:13 -0500 (Sun, 09 Feb 2025) EllapsedTime: 52.3 seconds RetCode: 0 Status: OK