Package: crisprVerse Version: 1.9.0 Command: chmod a+r crisprVerse -R && E:\biocbuild\bbs-3.21-bioc\R\bin\R.exe CMD build --keep-empty-dirs --no-resave-data crisprVerse StartedAt: 2025-02-09 18:06:22 -0500 (Sun, 09 Feb 2025) EndedAt: 2025-02-09 18:07:52 -0500 (Sun, 09 Feb 2025) EllapsedTime: 90.0 seconds RetCode: 0 Status: OK PackageFile: crisprVerse_1.9.0.tar.gz PackageFileSize: 296.1 KiB