Package: crisprViz Version: 1.9.0 Command: /Library/Frameworks/R.framework/Resources/bin/R CMD build --keep-empty-dirs --no-resave-data crisprViz StartedAt: 2025-02-09 16:00:23 -0500 (Sun, 09 Feb 2025) EndedAt: 2025-02-09 16:01:13 -0500 (Sun, 09 Feb 2025) EllapsedTime: 49.5 seconds RetCode: 0 Status: OK PackageFile: crisprViz_1.9.0.tar.gz PackageFileSize: 1.302 MiB