Package: crisprViz Version: 1.9.0 Command: /Library/Frameworks/R.framework/Resources/bin/R CMD INSTALL crisprViz StartedAt: 2025-02-12 15:16:39 -0500 (Wed, 12 Feb 2025) EndedAt: 2025-02-12 15:17:00 -0500 (Wed, 12 Feb 2025) EllapsedTime: 20.9 seconds RetCode: 0 Status: OK