Package: crisprViz Version: 1.9.0 Command: /Library/Frameworks/R.framework/Resources/bin/R CMD build --keep-empty-dirs --no-resave-data crisprViz StartedAt: 2025-02-12 16:22:37 -0500 (Wed, 12 Feb 2025) EndedAt: 2025-02-12 16:25:01 -0500 (Wed, 12 Feb 2025) EllapsedTime: 143.8 seconds RetCode: 0 Status: OK PackageFile: crisprViz_1.9.0.tar.gz PackageFileSize: 1.302 MiB