Package: crisprViz Version: 1.9.0 Command: rm -rf crisprViz.buildbin-libdir && mkdir crisprViz.buildbin-libdir && E:\biocbuild\bbs-3.21-bioc\R\bin\R.exe CMD INSTALL --build --library=crisprViz.buildbin-libdir crisprViz_1.9.0.tar.gz StartedAt: 2025-02-10 07:32:30 -0500 (Mon, 10 Feb 2025) EndedAt: 2025-02-10 07:33:31 -0500 (Mon, 10 Feb 2025) EllapsedTime: 60.5 seconds RetCode: 0 Status: OK PackageFile: crisprViz_1.9.0.zip PackageFileSize: 746.7 KiB