Package: crossmeta Version: 1.33.1 Maintainer: Alex Pickering MaintainerEmail: alexvpickering at gmail.com git_url: https://git.bioconductor.org/packages/crossmeta git_branch: devel git_last_commit: a60103d git_last_commit_date: 2024-12-17 10:45:03 -0500 (Tue, 17 Dec 2024)