############################################################################## ############################################################################## ### ### Running command: ### ### /Library/Frameworks/R.framework/Resources/bin/R CMD build --keep-empty-dirs --no-resave-data crossmeta ### ############################################################################## ############################################################################## * checking for file ‘crossmeta/DESCRIPTION’ ... OK * preparing ‘crossmeta’: * checking DESCRIPTION meta-information ... OK * installing the package to build vignettes ----------------------------------- ERROR: dependency ‘oligo’ is not available for package ‘crossmeta’ Perhaps try a variation of: install.packages('oligo') * removing ‘/private/var/folders/r0/l4fjk6cj5xj0j3brt4bplpl40000gt/T/Rtmpy2lldn/Rinst12742772eb60b/crossmeta’ ----------------------------------- ERROR: package installation failed