############################################################################## ############################################################################## ### ### Running command: ### ### /Library/Frameworks/R.framework/Resources/bin/R CMD build --keep-empty-dirs --no-resave-data crossmeta ### ############################################################################## ############################################################################## * checking for file ‘crossmeta/DESCRIPTION’ ... OK * preparing ‘crossmeta’: * checking DESCRIPTION meta-information ... OK * installing the package to build vignettes ----------------------------------- ERROR: dependency ‘oligo’ is not available for package ‘crossmeta’ Perhaps try a variation of: install.packages('oligo') * removing ‘/private/tmp/RtmpkcKpI4/Rinst11fff4496ea3d/crossmeta’ ----------------------------------- ERROR: package installation failed