Package: crossmeta Version: 1.33.1 Command: /Library/Frameworks/R.framework/Resources/bin/R CMD build --keep-empty-dirs --no-resave-data crossmeta StartedAt: 2025-02-09 16:25:11 -0500 (Sun, 09 Feb 2025) EndedAt: 2025-02-09 16:25:14 -0500 (Sun, 09 Feb 2025) EllapsedTime: 2.3 seconds RetCode: 1 Status: ERROR PackageFile: None PackageFileSize: NA