Package: crossmeta Version: 1.33.1 Command: /Library/Frameworks/R.framework/Resources/bin/R CMD INSTALL crossmeta StartedAt: 2025-02-09 15:33:22 -0500 (Sun, 09 Feb 2025) EndedAt: 2025-02-09 15:33:23 -0500 (Sun, 09 Feb 2025) EllapsedTime: 1.1 seconds RetCode: 1 Status: ERROR