Package: crossmeta Version: 1.33.1 Command: /home/biocbuild/bbs-3.21-bioc/R/bin/R CMD check --install=check:crossmeta.install-out.txt --library=/home/biocbuild/bbs-3.21-bioc/R/site-library --timings crossmeta_1.33.1.tar.gz StartedAt: 2025-01-21 21:13:11 -0500 (Tue, 21 Jan 2025) EndedAt: 2025-01-21 21:15:55 -0500 (Tue, 21 Jan 2025) EllapsedTime: 164.2 seconds RetCode: 1 Status: ERROR CheckDir: crossmeta.Rcheck Warnings: NA